BEGIN:VCALENDAR
VERSION:2.0
PRODID:-//SPARK on the Circle - ECPv4.5.10.1//NONSGML v1.0//EN
CALSCALE:GREGORIAN
METHOD:PUBLISH
X-WR-CALNAME:SPARK on the Circle
X-ORIGINAL-URL:http://circlespark.org
X-WR-CALDESC:Events for SPARK on the Circle
BEGIN:VEVENT
DTSTART;TZID=America/Indiana/Indianapolis:20230912T120000
DTEND;TZID=America/Indiana/Indianapolis:20230912T130000
DTSTAMP:20260421T195308
CREATED:20230823T162652Z
LAST-MODIFIED:20230823T162652Z
UID:5343-1694520000-1694523600@circlespark.org
SUMMARY:Lunch Break Live with Sylvia Thomas
DESCRIPTION:About:\nSylvia Thomas is a poet and singer-songwriter. She creates music using her voice\, her body\, and vocal loop pedal. Combining her mediums of writing and music\, her sound is ambient and relaxing. Sylvia is also part of the Artist and Public Life Residency program surrounding Tube Factory Artspace. She will be performing originals and covers.\n\n
URL:http://circlespark.org/event/lunch-break-live-with-sylvia-thomas/
END:VEVENT
END:VCALENDAR