BEGIN:VCALENDAR
VERSION:2.0
PRODID:-//SPARK on the Circle - ECPv4.5.10.1//NONSGML v1.0//EN
CALSCALE:GREGORIAN
METHOD:PUBLISH
X-WR-CALNAME:SPARK on the Circle
X-ORIGINAL-URL:http://circlespark.org
X-WR-CALDESC:Events for SPARK on the Circle
BEGIN:VEVENT
DTSTART;TZID=America/Indiana/Indianapolis:20230822T120000
DTEND;TZID=America/Indiana/Indianapolis:20230822T130000
DTSTAMP:20260421T212907
CREATED:20230731T220513Z
LAST-MODIFIED:20230731T220513Z
UID:5218-1692705600-1692709200@circlespark.org
SUMMARY:Lunch Break Live with Peyton Womock
DESCRIPTION:Peyton Womock is an artist known for his skills as a saxophonist. His music incorporates his sax playing to innovatively allow him to cross over multiple genres from Smooth Jazz\, Funk\, R&B\, Hip-Hop/Rap\, to Pop. He is known for performing popular covers loved and cherished by many while also performing original pieces of his very own. You are truly in for a unique experience due to his performance energy being second to none when it comes to hitting the stage. \n
URL:http://circlespark.org/event/lunch-break-live-with-peyton-womock/
END:VEVENT
BEGIN:VEVENT
DTSTART;TZID=America/Indiana/Indianapolis:20230822T180000
DTEND;TZID=America/Indiana/Indianapolis:20230822T190000
DTSTAMP:20260421T212907
CREATED:20230731T220739Z
LAST-MODIFIED:20230817T154750Z
UID:5225-1692727200-1692730800@circlespark.org
SUMMARY:Chreece Preview with Defame
DESCRIPTION:Join us for a musical preview of the Chreece Festival with sound crafter\, image smasher\, Defame!\n\nDefame is a producer/beatmaker/artist residing in Indianapolis\, IN.\nRaised on a musical diet that consisted of hand-me-down home dubbed rap tapes and whatever was beaming through the TV; this seasoned beatsmith weaves beats\, samples\, instruments and textures into samplers and computers to create a fuzzy\, yet melodic\, head nodding atmosphere. With several albums\, EP’s\, and collaborations under his belt\, defame continues to push himself in new directions on his sonic palette.Over the last year he has been organizing “State Street Beats”\, a producer-centric event held every other month at State Street Pub\, giving a platform to producers and beatmakers to share their creations in a live setting as well as offering “The Open Aux”\, an open-mic type segment of the evening but for producers to plug in and speak with their sounds.\n\nChreece hip hop festival returns to Indianapolis Saturday August 26th. The full-day festival will feature more than 80+ Indianapolis-area artists\, DJs and producers\, as well as national acts 9th Wonder\, redveil\, Kari Faux\, Jordan Ward and Pink Siifu at the top of the bill. Eight Fountain Square venues will host the performances\, most of which will be open to all ages. Vendors\, Art Instilations\, Pro Wrestling and More.\n\nWhat is SPARK on the Circle? SPARK on the Circle is an ongoing partnership between Big Car Collaborative\, Downtown Indy\, City of Indianapolis Department of Metropolitan Development\, the Capital Improvement Board\, and the Indiana War Memorials Commission.\n\nWhat? SPARK brings a free\, fun\, playful\, welcoming\, and art-filled park to the heart of Indianapolis. Here on Monument Circle\, you’ll find comfortable places to sit in the shade\, free games to play like ping pong and chess\, a cafe serving food and drink\, art experiences\, and special offerings like live\, local music. Big Car Collaborative approaches its aspects of SPARK on the Circle as a site and community specific public art project.\n\nWhen? Visitors can enjoy SPARK on the Circle from 11 a.m. until dusk each day until November 3.\nsounds.defame.bandcamp.com\n@defamebeats\n@statestreetbeats \nhttps://www.chreeceaf.com/ \n \n
URL:http://circlespark.org/event/chreece-preview/
END:VEVENT
END:VCALENDAR