BEGIN:VCALENDAR
VERSION:2.0
PRODID:-//SPARK on the Circle - ECPv4.5.10.1//NONSGML v1.0//EN
CALSCALE:GREGORIAN
METHOD:PUBLISH
X-WR-CALNAME:SPARK on the Circle
X-ORIGINAL-URL:http://circlespark.org
X-WR-CALDESC:Events for SPARK on the Circle
BEGIN:VEVENT
DTSTART;TZID=America/Indiana/Indianapolis:20230810T110000
DTEND;TZID=America/Indiana/Indianapolis:20230810T130000
DTSTAMP:20260421T212832
CREATED:20230807T153504Z
LAST-MODIFIED:20230807T153504Z
UID:5263-1691665200-1691672400@circlespark.org
SUMMARY:Smore's On The Circle
DESCRIPTION:S’mores on the Circle is back this year! Join us on National S’mores Day\, Thursday\, August 10\, from 11 a.m. – 1 p.m. on Monument Circle for some delicious gourmet s’mores created by local chef’s for $5 each (cash or Venmo only)! All proceeds will go toward financial assistance to support Girl Scouts of Central Indiana’s girls. \nThis is a delicious fundraiser for the downtown Indianapolis community. And of course\, it’s open to anyone who wants to join us! \n
URL:http://circlespark.org/event/smores-on-the-circle/
END:VEVENT
BEGIN:VEVENT
DTSTART;TZID=America/Indiana/Indianapolis:20230810T160000
DTEND;TZID=America/Indiana/Indianapolis:20230810T180000
DTSTAMP:20260421T212832
CREATED:20230731T211804Z
LAST-MODIFIED:20230731T212036Z
UID:5198-1691683200-1691690400@circlespark.org
SUMMARY:EmbodieDance with Indy Movement
DESCRIPTION:\n\n\n\n\nEmbodieDance with Lani Weissbach | August 10th\, 4-5pm & 5-6pm\n\nLani will be offering two\, 1-hour EmbodieDance classes back to back on Thursday\, August 10th. Participants are welcome to join her for one or both classes. Even though some similar concepts/themes will be explored in each class\, each class will still be a unique experience. Below is a general description for EmbodieDance and then more specific descriptions for each of her classes. \n  \nEmbodieDance\, created and taught by Lani Weissbach\, is a rich and multilayered movement practice that combines ancient and contemporary wisdom from East and West into an immersive movement experience that is suitable for all levels and all people. At the heart of this practice is the intention to honor our biological need to move in organic\, expressive ways\, to build awareness and presence in the process\, and to cultivate curiosity\, kindness\, empathy and ease. \n
URL:http://circlespark.org/event/embodiedance-with-indy-movement/
END:VEVENT
END:VCALENDAR