BEGIN:VCALENDAR
VERSION:2.0
PRODID:-//SPARK on the Circle - ECPv4.5.10.1//NONSGML v1.0//EN
CALSCALE:GREGORIAN
METHOD:PUBLISH
X-WR-CALNAME:SPARK on the Circle
X-ORIGINAL-URL:http://circlespark.org
X-WR-CALDESC:Events for SPARK on the Circle
BEGIN:VEVENT
DTSTART;TZID=America/Indiana/Indianapolis:20221026T180000
DTEND;TZID=America/Indiana/Indianapolis:20221026T210000
DTSTAMP:20260422T131603
CREATED:20220901T194900Z
LAST-MODIFIED:20221026T111015Z
UID:4815-1666807200-1666818000@circlespark.org
SUMMARY:Halloween on the Circle: Dr. Jekyll and Mr. Hyde (1920)
DESCRIPTION:\n\nFeelin’ spooky? Join us for a live soundtrack to the silent scary film\, Dr. Jekyll and Mr. Hyde (1920\, 80 mins.)\, at 7:30 p.m. on the Monument steps. Film and soundtrack by local musicians in partnership with Classical Music Indy. Score performed by Jennifer Page\, flute; Eric Salazar\, bass clarinet; Allison Vickery\, piano; Rob Funkhouser\, percussion. \nAND brace yourself for a short Halloween-ish tour at 6:00 pm by Kipp Normand of the seedy\, sinister\, dark side of Monument Circle\, followed by a slide show before the film featuring more spooky stories about Indianapolis history! \n\nFor the tour\, meet at the trailer on the southwest quad of Monument Circle. In case of bad weather\, cancellation decisions will be made by 3 p.m. Check SPARK social media or website for updates.\n\n\n* FREE *\n \n\nWhat’s This? \nWe at Big Car are teaming up with Downtown Indy and the City of Indianapolis — with support from the Capital Improvement Board and the Indiana War Memorials Commission— to spark Monument Circle with human-scale activities like games\, live music\, artmaking\, and socializing in a comfortable place. We’re based from the southwest quadrant. \n\n\n
URL:http://circlespark.org/event/halloween/
ATTACH;FMTTYPE=image/png:http://circlespark.org/wp-content/uploads/Jeckyll-2.png
END:VEVENT
END:VCALENDAR