BEGIN:VCALENDAR
VERSION:2.0
PRODID:-//SPARK on the Circle - ECPv4.5.10.1//NONSGML v1.0//EN
CALSCALE:GREGORIAN
METHOD:PUBLISH
X-WR-CALNAME:SPARK on the Circle
X-ORIGINAL-URL:http://circlespark.org
X-WR-CALDESC:Events for SPARK on the Circle
BEGIN:VEVENT
DTSTART;TZID=America/Indiana/Indianapolis:20220928T180000
DTEND;TZID=America/Indiana/Indianapolis:20220928T200000
DTSTAMP:20260422T142221
CREATED:20220901T191900Z
LAST-MODIFIED:20220907T124445Z
UID:4794-1664388000-1664395200@circlespark.org
SUMMARY:WALKING WEDNESDAY-Ugly Ducklings
DESCRIPTION:\nJoin historians Jordan Ryan and Callie McCune for a look at the hidden tales and amazing stories behind buildings you might love to hate: City-County Building\, the Gold Building\, the former Anthem building on Monument Circle\, and others. You may even learn to love some of Indy’s most unseemly architecture.\n\nALL TOURS MEET at the trailer on the southwest quad of Monument Circle. Expect to walk between a half-mile and 2 miles total. In case of bad weather\, cancellation decisions will be made by 3 p.m. Check SPARK social media or website for updates.\n\n* FREE *\n\nWhat’s This?\nWe at Big Car are teaming up with Downtown Indy and the City of Indianapolis — with support from the Capital Improvement Board and the Indiana War Memorials Commission— to spark Monument Circle with human-scale activities like games\, live music\, artmaking\, and socializing in a comfortable place. We’re based from the southwest quadrant in front of the Emmis.\n\n
URL:http://circlespark.org/event/walking-wednesday-ugly-ducklings/
ATTACH;FMTTYPE=image/jpeg:http://circlespark.org/wp-content/uploads/Ugly-duck-tour-RESIZED.jpg
END:VEVENT
BEGIN:VEVENT
DTSTART;TZID=America/Indiana/Indianapolis:20220928T183000
DTEND;TZID=America/Indiana/Indianapolis:20220928T193000
DTSTAMP:20260422T142221
CREATED:20220901T192259Z
LAST-MODIFIED:20220901T192259Z
UID:4797-1664389800-1664393400@circlespark.org
SUMMARY:Evening Embers: Ambient Music with Michael Raintree
DESCRIPTION:Michael Raintree is one of the alter music egos of Sean describes his music as “experimental R&B.” He’s created a unique soundscape for the project\, featuring distorted layers of synthesizers and drum machines with heavily-processed vocals. \n\n\n\n\nSean Oreo Jones is an artist currently residing in Indianapolis. With his original focus on hip-hop culture\, Jones has sharpened his craft as a musician touring around the country. Since 2010\, Oreo Jones has released over 9 studio albums\, participated in artist residencies\, and received awards for his work in the hip-hop community. \nAs a community organizer with an artistic purpose\, Sean founded “Chreece\,” one of the Midwest’s largest hip-hop festivals. \n\n\n\n\n
URL:http://circlespark.org/event/evening-embers-ambient-music-with-michael-raintree/
ATTACH;FMTTYPE=image/jpeg:http://circlespark.org/wp-content/uploads/33768154358_4fb9aefd08_o.jpg
END:VEVENT
END:VCALENDAR