BEGIN:VCALENDAR
VERSION:2.0
PRODID:-//SPARK on the Circle - ECPv4.5.10.1//NONSGML v1.0//EN
CALSCALE:GREGORIAN
METHOD:PUBLISH
X-WR-CALNAME:SPARK on the Circle
X-ORIGINAL-URL:http://circlespark.org
X-WR-CALDESC:Events for SPARK on the Circle
BEGIN:VEVENT
DTSTART;TZID=America/Indiana/Indianapolis:20220908T110000
DTEND;TZID=America/Indiana/Indianapolis:20220908T130000
DTSTAMP:20260422T142128
CREATED:20220901T184805Z
LAST-MODIFIED:20220901T184805Z
UID:4764-1662634800-1662642000@circlespark.org
SUMMARY:Dear You\, Love Home with Brandon Schaaf
DESCRIPTION:Where did you live that you miss the most? Where did you live that you hated? Who lives there now? What would you say to them? Are there secrets to reveal? Artist Brandon Schaaf will bring stationary and help you write the perfect letter to the current inhabitant.\n\nAbout BRANDON SCHAAF is a visual and performance artist in Indianapolis\, Indiana and a founding member of collaborative artist collective Know No Stranger since 2009.\nSchaaf’s visual work includes character design\, 2D animation\, and illustration.\nHis performance work includes writing\, music\, singing\, and acting.\nHis karaoke go-tos include Come Sail Away by Styx\, Just A Gigolo by Louis Prima\, and War by Edwin Starr.\n\nWhat is this?\nCircle SPARK brings you activities like games\, live music\, artmaking\, and socializing in a comfortable place. It is located on Monument Circle in the southwest quad. Hours: Mondays – Thursdays 11 am to 2 pm | Wednesdays 5-9 pm | and Fridays 11 am to 9 pm. SPARK is a project of Big Car\, Downtown Indy\, and the City of Indianapolis — with support from the Capital Improvement Board and the Indiana War Memorials Commission.\n
URL:http://circlespark.org/event/dear-you-love-home-with-brandon-schaaf/
ATTACH;FMTTYPE=image/png:http://circlespark.org/wp-content/uploads/dear-you-love-home-rectangle-1024x683.png
END:VEVENT
END:VCALENDAR