BEGIN:VCALENDAR
VERSION:2.0
PRODID:-//SPARK on the Circle - ECPv4.5.10.1//NONSGML v1.0//EN
CALSCALE:GREGORIAN
METHOD:PUBLISH
X-WR-CALNAME:SPARK on the Circle
X-ORIGINAL-URL:http://circlespark.org
X-WR-CALDESC:Events for SPARK on the Circle
BEGIN:VEVENT
DTSTART;TZID=America/Indiana/Indianapolis:20220901T110000
DTEND;TZID=America/Indiana/Indianapolis:20220901T130000
DTSTAMP:20260422T142204
CREATED:20220820T022941Z
LAST-MODIFIED:20220820T023056Z
UID:4749-1662030000-1662037200@circlespark.org
SUMMARY:Art is Around the Corner ... with Giselle Trujillo
DESCRIPTION:Art can be made of anything. Stop by Monument Circle to add to an art project using provided recycled materials. \nFacilitated by artist Giselle Trujillo and co-presented by Arte Mexicano en Indiana. \n
URL:http://circlespark.org/event/giselle-trujillo/
LOCATION:1 Monument Circle\, Indianapolis\, IN\, 46204\, United States
CATEGORIES:Monument Circle,SPARK,Visual Art
ATTACH;FMTTYPE=image/jpeg:http://circlespark.org/wp-content/uploads/jug-smaller.jpeg
END:VEVENT
END:VCALENDAR