BEGIN:VCALENDAR
VERSION:2.0
PRODID:-//SPARK on the Circle - ECPv4.5.10.1//NONSGML v1.0//EN
CALSCALE:GREGORIAN
METHOD:PUBLISH
X-WR-CALNAME:SPARK on the Circle
X-ORIGINAL-URL:http://circlespark.org
X-WR-CALDESC:Events for SPARK on the Circle
BEGIN:VEVENT
DTSTART;TZID=America/Indiana/Indianapolis:20220830T120000
DTEND;TZID=America/Indiana/Indianapolis:20220830T130000
DTSTAMP:20260422T142009
CREATED:20220817T010336Z
LAST-MODIFIED:20220817T015428Z
UID:4733-1661860800-1661864400@circlespark.org
SUMMARY:Lunch Break Live: The Girl Called BOOKS
DESCRIPTION:Presented by Lake City Bank: \nIndie soul-folk artist The Girl called BOOKS performs from noon to 1 pm. \n(photo by Wildstyle Paschall) \n
URL:http://circlespark.org/event/lunch-break-live-the-girl-called-books/
CATEGORIES:Monument Circle,Music,SPARK
ATTACH;FMTTYPE=image/jpeg:http://circlespark.org/wp-content/uploads/Books-by-Wildstyle-1.jpg
END:VEVENT
END:VCALENDAR